BEGIN:VCALENDAR
VERSION:2.0
PRODID:-//Tukios.com/
BEGIN:VEVENT
UID:bb275424-202a-44de-8e7c-7fdcae4884da@www.aderholdfh.com
DTSTAMP:20260425T201042Z
DTSTART:20260430T150000Z
DTEND:20260430T160000Z
SUMMARY:Mass of Christian Burial
DESCRIPTION:
URL:https://www.aderholdfh.com/obituaries/william-bettge-sr
LOCATION:St. Martin's Catholic Church 301 St. Martin's Church Rd.  West 
	TX 76691
GEO:31.7601784;-97.0387958
END:VEVENT
END:VCALENDAR