BEGIN:VCALENDAR
VERSION:2.0
PRODID:-//Tukios.com/
BEGIN:VEVENT
UID:ac04818a-0076-4d5f-abc4-505c6861c517@www.aderholdfh.com
DTSTAMP:20260425T200449Z
DTSTART:20260429T230000Z
DTEND:20260430T010000Z
SUMMARY:Rosary followed by Visitation
DESCRIPTION:
URL:https://www.aderholdfh.com/obituaries/william-bettge-sr
LOCATION: 808 S Reagan St  West TX 76691
GEO:31.7932328;-97.0971256
END:VEVENT
END:VCALENDAR