BEGIN:VCALENDAR
VERSION:2.0
PRODID:-//Tukios.com/
BEGIN:VEVENT
UID:d2a388dc-7534-491a-a98a-179cd119fbf8@www.aderholdfh.com
DTSTAMP:20260424T204833Z
DTSTART:20260427T150000Z
DTEND:20260427T160000Z
SUMMARY:Visitation
DESCRIPTION:
URL:https://www.aderholdfh.com/obituaries/janet-mccartney
LOCATION:Aderhold Funeral Home Chapel 808 South Reagan Street P.O. Box 
	423 West TX 76691
GEO:31.7932253;-97.0971232
END:VEVENT
END:VCALENDAR