BEGIN:VCALENDAR
VERSION:2.0
PRODID:-//Tukios.com/
BEGIN:VEVENT
UID:4a78f963-704e-4fc7-8cb4-3774108913f1@www.aderholdfh.com
DTSTAMP:20260424T204957Z
DTSTART:20260427T163000Z
DTEND:20260427T173000Z
SUMMARY:Graveside Service
DESCRIPTION:
URL:https://www.aderholdfh.com/obituaries/janet-mccartney
LOCATION:Gholson Cemetery 950 Wildcat Circle  Waco TX 76705
GEO:31.7063008;-97.2271137
END:VEVENT
END:VCALENDAR